BEGIN:VCALENDAR
VERSION:2.0
PRODID:-//Spielvereinigung Jettenbach e.V. - ECPv6.15.20//NONSGML v1.0//EN
CALSCALE:GREGORIAN
METHOD:PUBLISH
X-ORIGINAL-URL:https://www.spvgg-jettenbach.de
X-WR-CALDESC:Veranstaltungen für Spielvereinigung Jettenbach e.V.
REFRESH-INTERVAL;VALUE=DURATION:PT1H
X-Robots-Tag:noindex
X-PUBLISHED-TTL:PT1H
BEGIN:VTIMEZONE
TZID:Europe/Berlin
BEGIN:DAYLIGHT
TZOFFSETFROM:+0100
TZOFFSETTO:+0200
TZNAME:CEST
DTSTART:20250330T010000
END:DAYLIGHT
BEGIN:STANDARD
TZOFFSETFROM:+0200
TZOFFSETTO:+0100
TZNAME:CET
DTSTART:20251026T010000
END:STANDARD
BEGIN:DAYLIGHT
TZOFFSETFROM:+0100
TZOFFSETTO:+0200
TZNAME:CEST
DTSTART:20260329T010000
END:DAYLIGHT
BEGIN:STANDARD
TZOFFSETFROM:+0200
TZOFFSETTO:+0100
TZNAME:CET
DTSTART:20261025T010000
END:STANDARD
BEGIN:DAYLIGHT
TZOFFSETFROM:+0100
TZOFFSETTO:+0200
TZNAME:CEST
DTSTART:20270328T010000
END:DAYLIGHT
BEGIN:STANDARD
TZOFFSETFROM:+0200
TZOFFSETTO:+0100
TZNAME:CET
DTSTART:20271031T010000
END:STANDARD
END:VTIMEZONE
BEGIN:VEVENT
DTSTART;TZID=Europe/Berlin:20260509T150000
DTEND;TZID=Europe/Berlin:20260509T180000
DTSTAMP:20260426T003235
CREATED:20260421T025642Z
LAST-MODIFIED:20260421T025642Z
UID:7986-1778338800-1778349600@www.spvgg-jettenbach.de
SUMMARY:Fußballherren
DESCRIPTION:Heimspiel \nSpielvereinigung – SV Gencl.Wasserburg
URL:https://www.spvgg-jettenbach.de/index.php/event/fussballherren-7/
LOCATION:Sportanlage Jettenbach\, Grünthaler Straße 14\, Jettenbach\, 84555\, Germany
END:VEVENT
BEGIN:VEVENT
DTSTART;TZID=Europe/Berlin:20260515T080000
DTEND;TZID=Europe/Berlin:20260515T170000
DTSTAMP:20260426T003235
CREATED:20260421T030634Z
LAST-MODIFIED:20260421T030634Z
UID:8002-1778832000-1778864400@www.spvgg-jettenbach.de
SUMMARY:Fußballdamen
DESCRIPTION:Heimspiel \nSG Jettenbach/Gars – SG Fridolfing/Laufen
URL:https://www.spvgg-jettenbach.de/index.php/event/fussballdamen-18/
LOCATION:Sportanlage Jettenbach\, Grünthaler Straße 14\, Jettenbach\, 84555\, Germany
CATEGORIES:Fussball
END:VEVENT
BEGIN:VEVENT
DTSTART;TZID=Europe/Berlin:20260516T170000
DTEND;TZID=Europe/Berlin:20260516T200000
DTSTAMP:20260426T003235
CREATED:20260421T025832Z
LAST-MODIFIED:20260421T025832Z
UID:7988-1778950800-1778961600@www.spvgg-jettenbach.de
SUMMARY:Fußballherren
DESCRIPTION:Auswärtsspiel \nSpielvereinigung – SV Gencl.Wasserburg
URL:https://www.spvgg-jettenbach.de/index.php/event/fussballherren-8/
CATEGORIES:Fussball
END:VEVENT
BEGIN:VEVENT
DTSTART;TZID=Europe/Berlin:20260522T190000
DTEND;TZID=Europe/Berlin:20260522T210000
DTSTAMP:20260426T003235
CREATED:20260421T030746Z
LAST-MODIFIED:20260421T030746Z
UID:8004-1779476400-1779483600@www.spvgg-jettenbach.de
SUMMARY:Fußballdamen
DESCRIPTION:Auswärtsspiel \nSG Polling/Mühldorf – SG Jettenbach/Gars
URL:https://www.spvgg-jettenbach.de/index.php/event/fussballdamen-19/
CATEGORIES:Fussball
END:VEVENT
BEGIN:VEVENT
DTSTART;TZID=Europe/Berlin:20260523T150000
DTEND;TZID=Europe/Berlin:20260523T180000
DTSTAMP:20260426T003235
CREATED:20260421T025934Z
LAST-MODIFIED:20260421T025934Z
UID:7990-1779548400-1779559200@www.spvgg-jettenbach.de
SUMMARY:Fußballherren
DESCRIPTION:Heimspiel \nSpielvereinigung – TSV Soyen
URL:https://www.spvgg-jettenbach.de/index.php/event/fussballherren-9/
CATEGORIES:Fussball
END:VEVENT
BEGIN:VEVENT
DTSTART;TZID=Europe/Berlin:20260525T130000
DTEND;TZID=Europe/Berlin:20260525T160000
DTSTAMP:20260426T003235
CREATED:20260421T030149Z
LAST-MODIFIED:20260421T030149Z
UID:7994-1779714000-1779724800@www.spvgg-jettenbach.de
SUMMARY:Fußballdamen
DESCRIPTION:Auswärtsspiel \nSG Engelsberg/Garching – SG Jettenbach/Gars
URL:https://www.spvgg-jettenbach.de/index.php/event/fussballdamen-14/
CATEGORIES:Fussball
END:VEVENT
BEGIN:VEVENT
DTSTART;TZID=Europe/Berlin:20260530T150000
DTEND;TZID=Europe/Berlin:20260530T180000
DTSTAMP:20260426T003235
CREATED:20260421T030039Z
LAST-MODIFIED:20260421T030039Z
UID:7992-1780153200-1780164000@www.spvgg-jettenbach.de
SUMMARY:Fußballherren
DESCRIPTION:Auswärtsspiel \nSV Albaching – Spielvereinigung
URL:https://www.spvgg-jettenbach.de/index.php/event/fussballherren-10/
CATEGORIES:Fussball
END:VEVENT
BEGIN:VEVENT
DTSTART;TZID=Europe/Berlin:20260531T130000
DTEND;TZID=Europe/Berlin:20260531T150000
DTSTAMP:20260426T003235
CREATED:20260421T030847Z
LAST-MODIFIED:20260421T030847Z
UID:8006-1780232400-1780239600@www.spvgg-jettenbach.de
SUMMARY:Fußballdamen
DESCRIPTION:Heimspiel \nSG Jettenbach/Gars – SG Rechtmehring/Oberndorf
URL:https://www.spvgg-jettenbach.de/index.php/event/fussballdamen-20/
LOCATION:Sportanlage Jettenbach\, Grünthaler Straße 14\, Jettenbach\, 84555\, Germany
CATEGORIES:Fussball
END:VEVENT
END:VCALENDAR