BEGIN:VCALENDAR
VERSION:2.0
PRODID:-//Spielvereinigung Jettenbach e.V. - ECPv6.15.20//NONSGML v1.0//EN
CALSCALE:GREGORIAN
METHOD:PUBLISH
X-WR-CALNAME:Spielvereinigung Jettenbach e.V.
X-ORIGINAL-URL:https://www.spvgg-jettenbach.de
X-WR-CALDESC:Veranstaltungen für Spielvereinigung Jettenbach e.V.
REFRESH-INTERVAL;VALUE=DURATION:PT1H
X-Robots-Tag:noindex
X-PUBLISHED-TTL:PT1H
BEGIN:VTIMEZONE
TZID:Europe/Berlin
BEGIN:DAYLIGHT
TZOFFSETFROM:+0100
TZOFFSETTO:+0200
TZNAME:CEST
DTSTART:20240331T010000
END:DAYLIGHT
BEGIN:STANDARD
TZOFFSETFROM:+0200
TZOFFSETTO:+0100
TZNAME:CET
DTSTART:20241027T010000
END:STANDARD
BEGIN:DAYLIGHT
TZOFFSETFROM:+0100
TZOFFSETTO:+0200
TZNAME:CEST
DTSTART:20250330T010000
END:DAYLIGHT
BEGIN:STANDARD
TZOFFSETFROM:+0200
TZOFFSETTO:+0100
TZNAME:CET
DTSTART:20251026T010000
END:STANDARD
BEGIN:DAYLIGHT
TZOFFSETFROM:+0100
TZOFFSETTO:+0200
TZNAME:CEST
DTSTART:20260329T010000
END:DAYLIGHT
BEGIN:STANDARD
TZOFFSETFROM:+0200
TZOFFSETTO:+0100
TZNAME:CET
DTSTART:20261025T010000
END:STANDARD
BEGIN:DAYLIGHT
TZOFFSETFROM:+0100
TZOFFSETTO:+0200
TZNAME:CEST
DTSTART:20270328T010000
END:DAYLIGHT
BEGIN:STANDARD
TZOFFSETFROM:+0200
TZOFFSETTO:+0100
TZNAME:CET
DTSTART:20271031T010000
END:STANDARD
END:VTIMEZONE
BEGIN:VEVENT
DTSTART;TZID=Europe/Berlin:20260425T130000
DTEND;TZID=Europe/Berlin:20260425T150000
DTSTAMP:20260426T002224
CREATED:20260421T031202Z
LAST-MODIFIED:20260421T031202Z
UID:8008-1777122000-1777129200@www.spvgg-jettenbach.de
SUMMARY:Fußballdamen
DESCRIPTION:Auswärtsspiel \nSG Engelsberg/Garching – SG Jettenbach/Gars
URL:https://www.spvgg-jettenbach.de/index.php/event/fussballdamen-21/
END:VEVENT
BEGIN:VEVENT
DTSTART;TZID=Europe/Berlin:20260418T200000
DTEND;TZID=Europe/Berlin:20260418T230000
DTSTAMP:20260426T002224
CREATED:20251227T122035Z
LAST-MODIFIED:20260327T142411Z
UID:7820-1776542400-1776553200@www.spvgg-jettenbach.de
SUMMARY:Jahresversammlung / Hauptverein
DESCRIPTION:Einladung_HV_2026 zum Download \n 
URL:https://www.spvgg-jettenbach.de/index.php/event/jahresversammlung-hauptverein/
LOCATION:Gasthaus Grasser\, Bahnhofstraße 1\, Jettenbach\, 84555\, Deutschland
END:VEVENT
BEGIN:VEVENT
DTSTART;TZID=Europe/Berlin:20260411T150000
DTEND;TZID=Europe/Berlin:20260411T170000
DTSTAMP:20260426T002224
CREATED:20260305T095033Z
LAST-MODIFIED:20260305T095526Z
UID:7917-1775919600-1775926800@www.spvgg-jettenbach.de
SUMMARY:Fußballherren
DESCRIPTION:Auswärts: SV Waldhausen – Spielvereinigung
URL:https://www.spvgg-jettenbach.de/index.php/event/fussballherren-4/
CATEGORIES:Fussball
END:VEVENT
BEGIN:VEVENT
DTSTART;TZID=Europe/Berlin:20260410T193000
DTEND;TZID=Europe/Berlin:20260410T213000
DTSTAMP:20260426T002224
CREATED:20260305T094929Z
LAST-MODIFIED:20260305T095505Z
UID:7915-1775849400-1775856600@www.spvgg-jettenbach.de
SUMMARY:Fußballdamen
DESCRIPTION:Heimspiel: SG Jettenbach/Gars – SG Grüntegernbach
URL:https://www.spvgg-jettenbach.de/index.php/event/fussballdamen-13/
CATEGORIES:Fussball
END:VEVENT
BEGIN:VEVENT
DTSTART;TZID=Europe/Berlin:20260329T170000
DTEND;TZID=Europe/Berlin:20260329T190000
DTSTAMP:20260426T002224
CREATED:20260305T094829Z
LAST-MODIFIED:20260305T095441Z
UID:7913-1774803600-1774810800@www.spvgg-jettenbach.de
SUMMARY:Fußballdamen
DESCRIPTION:Auswärts: SG Söllhuben – SG Jettenbach/Gars
URL:https://www.spvgg-jettenbach.de/index.php/event/fussballdamen-12/
CATEGORIES:Fussball
END:VEVENT
BEGIN:VEVENT
DTSTART;TZID=Europe/Berlin:20260329T133000
DTEND;TZID=Europe/Berlin:20260329T153000
DTSTAMP:20260426T002224
CREATED:20260305T094718Z
LAST-MODIFIED:20260305T095418Z
UID:7911-1774791000-1774798200@www.spvgg-jettenbach.de
SUMMARY:Fußballherren
DESCRIPTION:Auswärts: DJK SV Edling – Spielvereinigung
URL:https://www.spvgg-jettenbach.de/index.php/event/fussballherren-3/
CATEGORIES:Fussball
END:VEVENT
BEGIN:VEVENT
DTSTART;TZID=Europe/Berlin:20260320T190000
DTEND;TZID=Europe/Berlin:20260320T210000
DTSTAMP:20260426T002224
CREATED:20260305T094607Z
LAST-MODIFIED:20260305T095353Z
UID:7909-1774033200-1774040400@www.spvgg-jettenbach.de
SUMMARY:Fußballdamen
DESCRIPTION:Auswärts: TSV Peterskirchen – SG Jettenbach/Gars
URL:https://www.spvgg-jettenbach.de/index.php/event/fussballdamen-11/
CATEGORIES:Fussball
END:VEVENT
BEGIN:VEVENT
DTSTART;TZID=Europe/Berlin:20260320T190000
DTEND;TZID=Europe/Berlin:20260320T210000
DTSTAMP:20260426T002224
CREATED:20260305T094452Z
LAST-MODIFIED:20260305T095332Z
UID:7907-1774033200-1774040400@www.spvgg-jettenbach.de
SUMMARY:Fußballherren
DESCRIPTION:Heimspiel: Spielvereinigung – FC Maitenbeth
URL:https://www.spvgg-jettenbach.de/index.php/event/fussballherren-2/
LOCATION:Sportanlage Jettenbach\, Grünthaler Straße 14\, Jettenbach\, 84555\, Germany
CATEGORIES:Fussball
END:VEVENT
BEGIN:VEVENT
DTSTART;TZID=Europe/Berlin:20260315T093000
DTEND;TZID=Europe/Berlin:20260315T150000
DTSTAMP:20260426T002224
CREATED:20251227T121442Z
LAST-MODIFIED:20251227T121442Z
UID:7816-1773567000-1773586800@www.spvgg-jettenbach.de
SUMMARY:Tennis Frühschoppen
DESCRIPTION:
URL:https://www.spvgg-jettenbach.de/index.php/event/tennis-fruehschoppen-8/
LOCATION:Sportanlage Jettenbach\, Grünthaler Straße 14\, Jettenbach\, 84555\, Germany
CATEGORIES:Tennis
END:VEVENT
BEGIN:VEVENT
DTSTART;TZID=Europe/Berlin:20260314T190000
DTEND;TZID=Europe/Berlin:20260314T210000
DTSTAMP:20260426T002224
CREATED:20251227T121347Z
LAST-MODIFIED:20251227T121347Z
UID:7814-1773514800-1773522000@www.spvgg-jettenbach.de
SUMMARY:Jahresversammlung der Fußballabteilung
DESCRIPTION:
URL:https://www.spvgg-jettenbach.de/index.php/event/jahresversammlung-der-fussballabteilung-2/
LOCATION:Gasthaus Grasser\, Bahnhofstraße 1\, Jettenbach\, 84555\, Deutschland
CATEGORIES:Fussball
END:VEVENT
BEGIN:VEVENT
DTSTART;TZID=Europe/Berlin:20260314T150000
DTEND;TZID=Europe/Berlin:20260314T170000
DTSTAMP:20260426T002224
CREATED:20260305T094150Z
LAST-MODIFIED:20260305T095307Z
UID:7905-1773500400-1773507600@www.spvgg-jettenbach.de
SUMMARY:Fußballherren
DESCRIPTION:Auswärts:  TuS Mettenheim-Spielvereinigung
URL:https://www.spvgg-jettenbach.de/index.php/event/fussballherren/
CATEGORIES:Fussball
END:VEVENT
BEGIN:VEVENT
DTSTART;TZID=Europe/Berlin:20260307T190000
DTEND;TZID=Europe/Berlin:20260307T210000
DTSTAMP:20260426T002224
CREATED:20251227T121149Z
LAST-MODIFIED:20251227T121656Z
UID:7812-1772910000-1772917200@www.spvgg-jettenbach.de
SUMMARY:Jahreshauptversammlung der Tennisabteilung
DESCRIPTION:Zur Jahreshauptversammlung der Tennisabteilung lädt die Vorstandschaft alle Mitglieder und interessierte Bürgerinnen und Bürger recht herzlich ein. Es stehen Neuwahlen an!
URL:https://www.spvgg-jettenbach.de/index.php/event/jahreshauptversammlung-der-spvgg-2/
LOCATION:Gasthaus Grasser\, Bahnhofstraße 1\, Jettenbach\, 84555\, Deutschland
CATEGORIES:Tennis
END:VEVENT
BEGIN:VEVENT
DTSTART;TZID=Europe/Berlin:20260215T093000
DTEND;TZID=Europe/Berlin:20260215T150000
DTSTAMP:20260426T002224
CREATED:20251227T120913Z
LAST-MODIFIED:20251227T120913Z
UID:7810-1771147800-1771167600@www.spvgg-jettenbach.de
SUMMARY:Tennis Frühschoppen
DESCRIPTION:
URL:https://www.spvgg-jettenbach.de/index.php/event/tennis-fruehschoppen-7/
LOCATION:Sportanlage Jettenbach\, Grünthaler Straße 14\, Jettenbach\, 84555\, Germany
END:VEVENT
BEGIN:VEVENT
DTSTART;TZID=Europe/Berlin:20260208T140000
DTEND;TZID=Europe/Berlin:20260208T180000
DTSTAMP:20260426T002224
CREATED:20251227T120824Z
LAST-MODIFIED:20260121T093956Z
UID:7808-1770559200-1770573600@www.spvgg-jettenbach.de
SUMMARY:Kinderfasching
DESCRIPTION:
URL:https://www.spvgg-jettenbach.de/index.php/event/kinderfasching/
LOCATION:Mehrzweckhalle\, Grünthaler Str. 14\, Jettenbach\, 84555\, Deutschland
END:VEVENT
BEGIN:VEVENT
DTSTART;TZID=Europe/Berlin:20260131T130000
DTEND;TZID=Europe/Berlin:20260131T210000
DTSTAMP:20260426T002224
CREATED:20251227T120642Z
LAST-MODIFIED:20260105T164341Z
UID:7806-1769864400-1769893200@www.spvgg-jettenbach.de
SUMMARY:Fußball-Tennis-Turnier
DESCRIPTION:Die Abteilung Fußball lädt Sportler und Besucher zum traditionellen Turnier ein.
URL:https://www.spvgg-jettenbach.de/index.php/event/fussball-tennis-turnier-2/
LOCATION:Mehrzweckhalle\, Grünthaler Str. 14\, Jettenbach\, 84555\, Deutschland
END:VEVENT
BEGIN:VEVENT
DTSTART;TZID=Europe/Berlin:20260118T093000
DTEND;TZID=Europe/Berlin:20260118T150000
DTSTAMP:20260426T002224
CREATED:20251227T120412Z
LAST-MODIFIED:20251227T120412Z
UID:7804-1768728600-1768748400@www.spvgg-jettenbach.de
SUMMARY:Tennis Frühschoppen
DESCRIPTION:Eingeladen ist Jedermann/frau
URL:https://www.spvgg-jettenbach.de/index.php/event/tennis-fruehschoppen-6/
LOCATION:Sportanlage Jettenbach\, Grünthaler Straße 14\, Jettenbach\, 84555\, Germany
CATEGORIES:Tennis
END:VEVENT
BEGIN:VEVENT
DTSTART;TZID=Europe/Berlin:20260117T100000
DTEND;TZID=Europe/Berlin:20260117T130000
DTSTAMP:20260426T002224
CREATED:20251227T120233Z
LAST-MODIFIED:20260108T112507Z
UID:7802-1768644000-1768654800@www.spvgg-jettenbach.de
SUMMARY:Kinder-Turntag
DESCRIPTION:Die Abteilung Turnen lädt zum Turntag für Kinder recht herzlich ein.
URL:https://www.spvgg-jettenbach.de/index.php/event/kinder-turntag/
LOCATION:Mehrzweckhalle\, Grünthaler Str. 14\, Jettenbach\, 84555\, Deutschland
CATEGORIES:Turnen
END:VEVENT
BEGIN:VEVENT
DTSTART;TZID=Europe/Berlin:20260105T190000
DTEND;TZID=Europe/Berlin:20260105T220000
DTSTAMP:20260426T002224
CREATED:20251227T115257Z
LAST-MODIFIED:20251227T120439Z
UID:7798-1767639600-1767650400@www.spvgg-jettenbach.de
SUMMARY:Weihnachtsfeier der Tennisabteilung
DESCRIPTION:Zur Jahresfeier der Tennisabteilung sind alle Mitglieder recht herzlich eingeladen. Der Nikolaus (alias Peter Brandmaier) wird so manchem die Leviten lesen. Spaß und Unterhaltung kann nicht ausgeschlossen werden. 😉 
URL:https://www.spvgg-jettenbach.de/index.php/event/weihnachtsfeier-der-tennisabteilung/
LOCATION:Wildpark Oberreith\, Oberreith 6A\, Unterreith\, 83567\, Germany
CATEGORIES:Tennis
END:VEVENT
BEGIN:VEVENT
DTSTART;TZID=Europe/Berlin:20251122T190000
DTEND;TZID=Europe/Berlin:20251122T230000
DTSTAMP:20260426T002224
CREATED:20251021T092605Z
LAST-MODIFIED:20251021T092605Z
UID:7637-1763838000-1763852400@www.spvgg-jettenbach.de
SUMMARY:Watt-Turnier
DESCRIPTION:
URL:https://www.spvgg-jettenbach.de/index.php/event/watt-turnier/
LOCATION:Mehrzweckhalle\, Grünthaler Str. 14\, Jettenbach\, 84555\, Deutschland
END:VEVENT
BEGIN:VEVENT
DTSTART;TZID=Europe/Berlin:20251025T160000
DTEND;TZID=Europe/Berlin:20251025T180000
DTSTAMP:20260426T002224
CREATED:20250926T012236Z
LAST-MODIFIED:20250926T012236Z
UID:7546-1761408000-1761415200@www.spvgg-jettenbach.de
SUMMARY:Auswärtsspiel der Fußballdamen
DESCRIPTION:Am 25.10.2025 treten unsere Fußballdamen gegen den  SG Fridolfing/Laufen an. Anpfiff ist um 16.00 Uhr. Die Fangemeinde wird um zahlreiche Unterstützung gebeten.
URL:https://www.spvgg-jettenbach.de/index.php/event/auswaertsspiel-der-fussballdamen-3/
END:VEVENT
BEGIN:VEVENT
DTSTART;TZID=Europe/Berlin:20251024T200000
DTEND;TZID=Europe/Berlin:20251024T220000
DTSTAMP:20260426T002224
CREATED:20250926T012004Z
LAST-MODIFIED:20250926T012004Z
UID:7544-1761336000-1761343200@www.spvgg-jettenbach.de
SUMMARY:Heimspiel der Fußballherren II
DESCRIPTION:Am 24.10.2025 treten unsere Fußballherren II gegen den  FC Grünthal III an. Anpfiff ist um 20.00 Uhr. Die Fangemeinde wird um zahlreiche Unterstützung gebeten.
URL:https://www.spvgg-jettenbach.de/index.php/event/heimspiel-der-fussballherren-ii-4/
LOCATION:Sportanlage Jettenbach\, Grünthaler Straße 14\, Jettenbach\, 84555\, Germany
END:VEVENT
BEGIN:VEVENT
DTSTART;TZID=Europe/Berlin:20251024T180000
DTEND;TZID=Europe/Berlin:20251024T200000
DTSTAMP:20260426T002224
CREATED:20250926T011748Z
LAST-MODIFIED:20250926T011748Z
UID:7542-1761328800-1761336000@www.spvgg-jettenbach.de
SUMMARY:Heimspiel der Fußballherren I
DESCRIPTION:Am 24.10.2025 treten unsere Fußballherren I gegen den  Am 19.10.2025 treten unsere Fußballherren II gegen den  SV Aschau II an. Anpfiff ist um 18.00 Uhr. Die Fangemeinde wird um zahlreiche Unterstützung gebeten.
URL:https://www.spvgg-jettenbach.de/index.php/event/heimspiel-der-fussballherren-i-3/
LOCATION:Sportanlage Jettenbach\, Grünthaler Straße 14\, Jettenbach\, 84555\, Germany
END:VEVENT
BEGIN:VEVENT
DTSTART;TZID=Europe/Berlin:20251019T160000
DTEND;TZID=Europe/Berlin:20251019T180000
DTSTAMP:20260426T002224
CREATED:20250926T011140Z
LAST-MODIFIED:20250926T011140Z
UID:7537-1760889600-1760896800@www.spvgg-jettenbach.de
SUMMARY:Auswärtsspiel der Fußballherren I
DESCRIPTION:Am 19.10.2025 treten unsere Fußballherren I gegen den  SV Genc.Wasserburg 1 an. Anpfiff ist um 16.00 Uhr. Die Fangemeinde wird um zahlreiche Unterstützung gebeten.
URL:https://www.spvgg-jettenbach.de/index.php/event/auswaertsspiel-der-fussballherren-i-2/
END:VEVENT
BEGIN:VEVENT
DTSTART;TZID=Europe/Berlin:20251019T133000
DTEND;TZID=Europe/Berlin:20251019T163000
DTSTAMP:20260426T002224
CREATED:20250926T011401Z
LAST-MODIFIED:20250926T011434Z
UID:7539-1760880600-1760891400@www.spvgg-jettenbach.de
SUMMARY:Auswärtsspiel der Fußballherren II
DESCRIPTION:Am 19.10.2025 treten unsere Fußballherren II gegen den  SV Genc.Wasserburg II an. Anpfiff ist um 13.30 Uhr. Die Fangemeinde wird um zahlreiche Unterstützung gebeten.
URL:https://www.spvgg-jettenbach.de/index.php/event/auswaertsspiel-der-fussballherren-ii-3/
END:VEVENT
BEGIN:VEVENT
DTSTART;TZID=Europe/Berlin:20251018T170000
DTEND;TZID=Europe/Berlin:20251019T020000
DTSTAMP:20260426T002224
CREATED:20250914T134530Z
LAST-MODIFIED:20250914T134530Z
UID:7459-1760806800-1760839200@www.spvgg-jettenbach.de
SUMMARY:Jettenbacher Herbstfest
DESCRIPTION:Ein neues Konzept verlangte einen neuen Namen. So wurde aus dem Schupfafest das Jettenbacher Herbstfest. Mit deutlich früherer Startzeit und einem veränderten Programm wollen wir bereits ab 17.00 Uhr Familien und Freunde ansprechen. Lass Dich überraschen!
URL:https://www.spvgg-jettenbach.de/index.php/event/jettenbacher-herbstfest/
LOCATION:Mehrzweckhalle\, Grünthaler Str. 14\, Jettenbach\, 84555\, Deutschland
END:VEVENT
BEGIN:VEVENT
DTSTART;TZID=Europe/Berlin:20251017T193000
DTEND;TZID=Europe/Berlin:20251017T213000
DTSTAMP:20260426T002224
CREATED:20250926T010537Z
LAST-MODIFIED:20250926T010618Z
UID:7533-1760729400-1760736600@www.spvgg-jettenbach.de
SUMMARY:Heimspiel der Fußballdamen
DESCRIPTION:Am 17.10.2025 treten unsere Fußballdamen gegen den  SV Schechen an. Anpfiff ist um 19.30 Uhr. Die Fangemeinde wird um zahlreiche Unterstützung gebeten.
URL:https://www.spvgg-jettenbach.de/index.php/event/heimspiel-der-fussballdamen-2/
LOCATION:Sportanlage Jettenbach\, Grünthaler Straße 14\, Jettenbach\, 84555\, Germany
END:VEVENT
BEGIN:VEVENT
DTSTART;TZID=Europe/Berlin:20251011T170000
DTEND;TZID=Europe/Berlin:20251011T190000
DTSTAMP:20260426T002224
CREATED:20250926T010342Z
LAST-MODIFIED:20250926T013019Z
UID:7531-1760202000-1760209200@www.spvgg-jettenbach.de
SUMMARY:Auswärtsspiel der Fußballdamen
DESCRIPTION:Am 11.10.2025 treten unsere Fußballdamen gegen den  TSV Altenmarkt an. Anpfiff ist um 17.00 Uhr. Die Fangemeinde wird um zahlreiche Unterstützung gebeten.
URL:https://www.spvgg-jettenbach.de/index.php/event/auswaertsspiel-der-fussballdamen-2/
END:VEVENT
BEGIN:VEVENT
DTSTART;TZID=Europe/Berlin:20251010T200000
DTEND;TZID=Europe/Berlin:20251010T220000
DTSTAMP:20260426T002224
CREATED:20250926T005732Z
LAST-MODIFIED:20250926T012706Z
UID:7524-1760126400-1760133600@www.spvgg-jettenbach.de
SUMMARY:Heimspiel der Fußballherren I
DESCRIPTION:Am 10.10.2025 treten unsere Fußballherren I gegen den  DJK SV Oberndorf 1 an. Anpfiff ist um 20.00 Uhr. Die Fangemeinde wird um zahlreiche Unterstützung gebeten.
URL:https://www.spvgg-jettenbach.de/index.php/event/auswaertsspiel-der-fussballherren-ii/
LOCATION:Sportanlage Jettenbach\, Grünthaler Straße 14\, Jettenbach\, 84555\, Germany
END:VEVENT
BEGIN:VEVENT
DTSTART;TZID=Europe/Berlin:20251010T180000
DTEND;TZID=Europe/Berlin:20251010T200000
DTSTAMP:20260426T002224
CREATED:20250926T005948Z
LAST-MODIFIED:20250926T005948Z
UID:7526-1760119200-1760126400@www.spvgg-jettenbach.de
SUMMARY:Heimspiel der Fußballherren II
DESCRIPTION:Am 10.10.2025 treten unsere Fußballherren I gegen den  SV Reichertsheim 3 an. Anpfiff ist um 18.00 Uhr. Die Fangemeinde wird um zahlreiche Unterstützung gebeten.
URL:https://www.spvgg-jettenbach.de/index.php/event/heimspiel-der-fussballherren-ii-2/
LOCATION:Sportanlage Jettenbach\, Grünthaler Straße 14\, Jettenbach\, 84555\, Germany
END:VEVENT
BEGIN:VEVENT
DTSTART;TZID=Europe/Berlin:20251004T170000
DTEND;TZID=Europe/Berlin:20251004T190000
DTSTAMP:20260426T002224
CREATED:20250926T005503Z
LAST-MODIFIED:20250926T005503Z
UID:7522-1759597200-1759604400@www.spvgg-jettenbach.de
SUMMARY:Heimspiel der Fußballherren II
DESCRIPTION:Am 04.10.2025 treten unsere Fußballherren II gegen den  TSV Obertaufkirchen an. Anpfiff ist um 17.00 Uhr. Die Fangemeinde wird um zahlreiche Unterstützung gebeten.
URL:https://www.spvgg-jettenbach.de/index.php/event/heimspiel-der-fussballherren-ii/
LOCATION:Sportanlage Jettenbach\, Grünthaler Straße 14\, Jettenbach\, 84555\, Germany
END:VEVENT
END:VCALENDAR